BEGIN:VCALENDAR
VERSION:2.0
PRODID:-//16th International Conference on Developmental Coordination Disorder - ECPv6.15.20//NONSGML v1.0//EN
CALSCALE:GREGORIAN
METHOD:PUBLISH
X-ORIGINAL-URL:https://dcd16.org.hk
X-WR-CALDESC:Events for 16th International Conference on Developmental Coordination Disorder
REFRESH-INTERVAL;VALUE=DURATION:PT1H
X-Robots-Tag:noindex
X-PUBLISHED-TTL:PT1H
BEGIN:VTIMEZONE
TZID:UTC
BEGIN:STANDARD
TZOFFSETFROM:+0000
TZOFFSETTO:+0000
TZNAME:UTC
DTSTART:20250101T000000
END:STANDARD
END:VTIMEZONE
BEGIN:VEVENT
DTSTART;VALUE=DATE:20261024
DTEND;VALUE=DATE:20261025
DTSTAMP:20260420T072031
CREATED:20250920T130438Z
LAST-MODIFIED:20260123T095303Z
UID:10000010-1792800000-1792886399@dcd16.org.hk
SUMMARY:CO-OP Workshop (Part 2)
DESCRIPTION:Part 2 will be synchronous online.\n\nThis workshop will prepare participants with knowledge and skill to apply CO-OP to their practice.\n\nInstructors will include Dr Helene Polatajko (Professor Emeritus\, Department of Occupational Science and Occupational Therapy\, Faculty of Medicine\, University of Toronto) and Ms. Sabine Vincon (PhD Candidate\, Queen Margaret University\, Edinburgh).
URL:https://dcd16.org.hk/event/co-op-workshop-part-2/
CATEGORIES:Post Conference Events
ATTACH;FMTTYPE=image/jpeg:https://dcd16.org.hk/wp-content/uploads/2025/11/20241030_133728-e1762863711918.jpg
END:VEVENT
END:VCALENDAR