BEGIN:VCALENDAR
VERSION:2.0
PRODID:-//16th International Conference on Developmental Coordination Disorder - ECPv6.15.20//NONSGML v1.0//EN
CALSCALE:GREGORIAN
METHOD:PUBLISH
X-WR-CALNAME:16th International Conference on Developmental Coordination Disorder
X-ORIGINAL-URL:https://dcd16.org.hk
X-WR-CALDESC:Events for 16th International Conference on Developmental Coordination Disorder
REFRESH-INTERVAL;VALUE=DURATION:PT1H
X-Robots-Tag:noindex
X-PUBLISHED-TTL:PT1H
BEGIN:VTIMEZONE
TZID:Asia/Krasnoyarsk
BEGIN:STANDARD
TZOFFSETFROM:+0700
TZOFFSETTO:+0700
TZNAME:+07
DTSTART:20250101T000000
END:STANDARD
END:VTIMEZONE
BEGIN:VTIMEZONE
TZID:Asia/Hong_Kong
BEGIN:STANDARD
TZOFFSETFROM:+0800
TZOFFSETTO:+0800
TZNAME:HKT
DTSTART:20250101T000000
END:STANDARD
END:VTIMEZONE
BEGIN:VTIMEZONE
TZID:UTC
BEGIN:STANDARD
TZOFFSETFROM:+0000
TZOFFSETTO:+0000
TZNAME:UTC
DTSTART:20240101T000000
END:STANDARD
END:VTIMEZONE
BEGIN:VEVENT
DTSTART;TZID=Asia/Krasnoyarsk:20260301T170000
DTEND;TZID=Asia/Krasnoyarsk:20260301T170000
DTSTAMP:20260420T042636
CREATED:20260126T105538Z
LAST-MODIFIED:20260126T111543Z
UID:10000044-1772384400-1772384400@dcd16.org.hk
SUMMARY:Deadline for Late Breaking DCD-16 Abstract Submissions (Poster Only)
DESCRIPTION:Call for Late Breaking Abstract Submissions (Posters Only) re-opened to March 1st \nSubmit here: https://dcd16.org.hk/abstract-submission/
URL:https://dcd16.org.hk/event/extended-deadline-for-dcd-16-abstract-submissions-poster-only/
CATEGORIES:Pre Conference Events
END:VEVENT
BEGIN:VEVENT
DTSTART;TZID=Asia/Krasnoyarsk:20260213T173000
DTEND;TZID=Asia/Krasnoyarsk:20260213T173000
DTSTAMP:20260420T042636
CREATED:20250825T210649Z
LAST-MODIFIED:20260126T110518Z
UID:10000006-1771003800-1771003800@dcd16.org.hk
SUMMARY:Early Bird (Discounted) DCD-16 Conference Registration Deadline (Extended)
DESCRIPTION:Extended to February 13th. \nFor ticketing details see \nhttps://dcd16.org.hk/event/the-16th-international-conference-on-developmental-coordination-disorder-in-hong-kong/
URL:https://dcd16.org.hk/event/early-bird-discounted-dcd-16-conference-registration-deadline/
CATEGORIES:Pre Conference Events
ATTACH;FMTTYPE=image/jpeg:https://dcd16.org.hk/wp-content/uploads/2025/11/IMG-20200710-WA001011-scaled-e1762863959850.jpg
END:VEVENT
BEGIN:VEVENT
DTSTART;VALUE=DATE:20260201
DTEND;VALUE=DATE:20260202
DTSTAMP:20260420T042636
CREATED:20260126T111348Z
LAST-MODIFIED:20260126T112025Z
UID:10000046-1769904000-1769990399@dcd16.org.hk
SUMMARY:Late Breaking DCD-16 Abstract Submissions (Poster Only) Opens
DESCRIPTION:Call for Late Breaking Abstract Submissions (Posters Only) re-opened to March 1st \nSubmit here: https://dcd16.org.hk/abstract-centre/
URL:https://dcd16.org.hk/event/late-breaking-dcd-16-abstract-submissions-poster-only-opens/
CATEGORIES:Pre Conference Events
END:VEVENT
BEGIN:VEVENT
DTSTART;VALUE=DATE:20260125
DTEND;VALUE=DATE:20260126
DTSTAMP:20260420T042636
CREATED:20250825T210621Z
LAST-MODIFIED:20251203T102842Z
UID:10000005-1769299200-1769385599@dcd16.org.hk
SUMMARY:Notification of DCD-16 Abstract Acceptance
DESCRIPTION:
URL:https://dcd16.org.hk/event/notification-of-dcd-16-abstract-acceptance/
CATEGORIES:Pre Conference Events
END:VEVENT
BEGIN:VEVENT
DTSTART;VALUE=DATE:20251130
DTEND;VALUE=DATE:20251201
DTSTAMP:20260420T042636
CREATED:20250825T210542Z
LAST-MODIFIED:20251112T023232Z
UID:10000004-1764460800-1764547199@dcd16.org.hk
SUMMARY:Extended Deadline for DCD-16 Abstract Submissions
DESCRIPTION:Submit here: https://dcd16.org.hk/abstract-submission/
URL:https://dcd16.org.hk/event/extended-deadline-for-dcd-16-abstract-submissions/
CATEGORIES:Pre Conference Events
END:VEVENT
BEGIN:VEVENT
DTSTART;VALUE=DATE:20250904
DTEND;VALUE=DATE:20250905
DTSTAMP:20260420T042636
CREATED:20250826T050053Z
LAST-MODIFIED:20250901T131016Z
UID:10000007-1756944000-1757030399@dcd16.org.hk
SUMMARY:DCD-16 Abstract Submission Opening
DESCRIPTION:
URL:https://dcd16.org.hk/event/dcd-16-abstract-submission-opening/
CATEGORIES:Pre Conference Events
END:VEVENT
END:VCALENDAR