BEGIN:VCALENDAR
VERSION:2.0
PRODID:-//16th International Conference on Developmental Coordination Disorder - ECPv6.15.20//NONSGML v1.0//EN
CALSCALE:GREGORIAN
METHOD:PUBLISH
X-ORIGINAL-URL:https://dcd16.org.hk
X-WR-CALDESC:Events for 16th International Conference on Developmental Coordination Disorder
REFRESH-INTERVAL;VALUE=DURATION:PT1H
X-Robots-Tag:noindex
X-PUBLISHED-TTL:PT1H
BEGIN:VTIMEZONE
TZID:Asia/Hong_Kong
BEGIN:STANDARD
TZOFFSETFROM:+0800
TZOFFSETTO:+0800
TZNAME:HKT
DTSTART:20250101T000000
END:STANDARD
END:VTIMEZONE
BEGIN:VTIMEZONE
TZID:Asia/Krasnoyarsk
BEGIN:STANDARD
TZOFFSETFROM:+0700
TZOFFSETTO:+0700
TZNAME:+07
DTSTART:20250101T000000
END:STANDARD
END:VTIMEZONE
BEGIN:VEVENT
DTSTART;VALUE=DATE:20260201
DTEND;VALUE=DATE:20260202
DTSTAMP:20260420T010631
CREATED:20260126T111348Z
LAST-MODIFIED:20260126T112025Z
UID:10000046-1769904000-1769990399@dcd16.org.hk
SUMMARY:Late Breaking DCD-16 Abstract Submissions (Poster Only) Opens
DESCRIPTION:Call for Late Breaking Abstract Submissions (Posters Only) re-opened to March 1st \nSubmit here: https://dcd16.org.hk/abstract-centre/
URL:https://dcd16.org.hk/event/late-breaking-dcd-16-abstract-submissions-poster-only-opens/
CATEGORIES:Pre Conference Events
END:VEVENT
BEGIN:VEVENT
DTSTART;TZID=Asia/Krasnoyarsk:20260213T173000
DTEND;TZID=Asia/Krasnoyarsk:20260213T173000
DTSTAMP:20260420T010631
CREATED:20250825T210649Z
LAST-MODIFIED:20260126T110518Z
UID:10000006-1771003800-1771003800@dcd16.org.hk
SUMMARY:Early Bird (Discounted) DCD-16 Conference Registration Deadline (Extended)
DESCRIPTION:Extended to February 13th. \nFor ticketing details see \nhttps://dcd16.org.hk/event/the-16th-international-conference-on-developmental-coordination-disorder-in-hong-kong/
URL:https://dcd16.org.hk/event/early-bird-discounted-dcd-16-conference-registration-deadline/
CATEGORIES:Pre Conference Events
ATTACH;FMTTYPE=image/jpeg:https://dcd16.org.hk/wp-content/uploads/2025/11/IMG-20200710-WA001011-scaled-e1762863959850.jpg
END:VEVENT
END:VCALENDAR